BEGIN:VCALENDAR
VERSION:2.0
PRODID:-//HATS Ministries - ECPv6.15.20//NONSGML v1.0//EN
CALSCALE:GREGORIAN
METHOD:PUBLISH
X-ORIGINAL-URL:https://hatsministries.org
X-WR-CALDESC:Events for HATS Ministries
REFRESH-INTERVAL;VALUE=DURATION:PT1H
X-Robots-Tag:noindex
X-PUBLISHED-TTL:PT1H
BEGIN:VTIMEZONE
TZID:America/New_York
BEGIN:DAYLIGHT
TZOFFSETFROM:-0500
TZOFFSETTO:-0400
TZNAME:EDT
DTSTART:20240310T070000
END:DAYLIGHT
BEGIN:STANDARD
TZOFFSETFROM:-0400
TZOFFSETTO:-0500
TZNAME:EST
DTSTART:20241103T060000
END:STANDARD
BEGIN:DAYLIGHT
TZOFFSETFROM:-0500
TZOFFSETTO:-0400
TZNAME:EDT
DTSTART:20250309T070000
END:DAYLIGHT
BEGIN:STANDARD
TZOFFSETFROM:-0400
TZOFFSETTO:-0500
TZNAME:EST
DTSTART:20251102T060000
END:STANDARD
BEGIN:DAYLIGHT
TZOFFSETFROM:-0500
TZOFFSETTO:-0400
TZNAME:EDT
DTSTART:20260308T070000
END:DAYLIGHT
BEGIN:STANDARD
TZOFFSETFROM:-0400
TZOFFSETTO:-0500
TZNAME:EST
DTSTART:20261101T060000
END:STANDARD
END:VTIMEZONE
BEGIN:VEVENT
DTSTART;TZID=America/New_York:20250924T103000
DTEND;TZID=America/New_York:20250924T120000
DTSTAMP:20260424T002447
CREATED:20250917T005358Z
LAST-MODIFIED:20250917T005358Z
UID:318-1758709800-1758715200@hatsministries.org
SUMMARY:Book Club
DESCRIPTION:Join us for book club! \nThis week: The Cost of Discipleship” by Dietrich Bonhoeffer.
URL:https://hatsministries.org/event/book-club-7/
LOCATION:HATS Ministries\, 123 Garrett Way\, Milledgeville\, GA\, 31061
END:VEVENT
END:VCALENDAR