BEGIN:VCALENDAR
VERSION:2.0
PRODID:-//HATS Ministries - ECPv6.15.20//NONSGML v1.0//EN
CALSCALE:GREGORIAN
METHOD:PUBLISH
X-WR-CALNAME:HATS Ministries
X-ORIGINAL-URL:https://hatsministries.org
X-WR-CALDESC:Events for HATS Ministries
REFRESH-INTERVAL;VALUE=DURATION:PT1H
X-Robots-Tag:noindex
X-PUBLISHED-TTL:PT1H
BEGIN:VTIMEZONE
TZID:America/New_York
BEGIN:DAYLIGHT
TZOFFSETFROM:-0500
TZOFFSETTO:-0400
TZNAME:EDT
DTSTART:20250309T070000
END:DAYLIGHT
BEGIN:STANDARD
TZOFFSETFROM:-0400
TZOFFSETTO:-0500
TZNAME:EST
DTSTART:20251102T060000
END:STANDARD
BEGIN:DAYLIGHT
TZOFFSETFROM:-0500
TZOFFSETTO:-0400
TZNAME:EDT
DTSTART:20260308T070000
END:DAYLIGHT
BEGIN:STANDARD
TZOFFSETFROM:-0400
TZOFFSETTO:-0500
TZNAME:EST
DTSTART:20261101T060000
END:STANDARD
BEGIN:DAYLIGHT
TZOFFSETFROM:-0500
TZOFFSETTO:-0400
TZNAME:EDT
DTSTART:20270314T070000
END:DAYLIGHT
BEGIN:STANDARD
TZOFFSETFROM:-0400
TZOFFSETTO:-0500
TZNAME:EST
DTSTART:20271107T060000
END:STANDARD
END:VTIMEZONE
BEGIN:VEVENT
DTSTART;TZID=America/New_York:20260526T180000
DTEND;TZID=America/New_York:20260526T200000
DTSTAMP:20260423T171011
CREATED:20260416T031056Z
LAST-MODIFIED:20260416T031056Z
UID:396-1779818400-1779825600@hatsministries.org
SUMMARY:Good Boundaries and Goodbyes
DESCRIPTION:Join us Tuesday nights at 6 as we review the study “Good Boundaries and Goodbyes”
URL:https://hatsministries.org/event/good-boundaries-and-goodbyes-7/
LOCATION:HATS Ministries\, 123 Garrett Way\, Milledgeville\, GA\, 31061
END:VEVENT
BEGIN:VEVENT
DTSTART;TZID=America/New_York:20260527T120000
DTEND;TZID=America/New_York:20260527T140000
DTSTAMP:20260423T171011
CREATED:20260416T030052Z
LAST-MODIFIED:20260416T030052Z
UID:379-1779883200-1779890400@hatsministries.org
SUMMARY:Crafts Class
DESCRIPTION:Join us Wednesdays at noon as we learn crafts!
URL:https://hatsministries.org/event/crafts-class-8/
LOCATION:HATS Ministries\, 123 Garrett Way\, Milledgeville\, GA\, 31061
END:VEVENT
BEGIN:VEVENT
DTSTART;TZID=America/New_York:20260530T110000
DTEND;TZID=America/New_York:20260530T140000
DTSTAMP:20260423T171011
CREATED:20260416T030300Z
LAST-MODIFIED:20260416T030304Z
UID:382-1780138800-1780149600@hatsministries.org
SUMMARY:Paint and Pizza Party
DESCRIPTION:Join us for a paint and pizza fundraiser!
URL:https://hatsministries.org/event/paint-and-pizza-party/
LOCATION:GA
END:VEVENT
BEGIN:VEVENT
DTSTART;TZID=America/New_York:20260602T180000
DTEND;TZID=America/New_York:20260602T200000
DTSTAMP:20260423T171011
CREATED:20260416T031057Z
LAST-MODIFIED:20260416T031057Z
UID:397-1780423200-1780430400@hatsministries.org
SUMMARY:Good Boundaries and Goodbyes
DESCRIPTION:Join us Tuesday nights at 6 as we review the study “Good Boundaries and Goodbyes”
URL:https://hatsministries.org/event/good-boundaries-and-goodbyes-8/
LOCATION:HATS Ministries\, 123 Garrett Way\, Milledgeville\, GA\, 31061
END:VEVENT
BEGIN:VEVENT
DTSTART;TZID=America/New_York:20260603T120000
DTEND;TZID=America/New_York:20260603T140000
DTSTAMP:20260423T171011
CREATED:20260416T030054Z
LAST-MODIFIED:20260416T030054Z
UID:380-1780488000-1780495200@hatsministries.org
SUMMARY:Crafts Class
DESCRIPTION:Join us Wednesdays at noon as we learn crafts!
URL:https://hatsministries.org/event/crafts-class-9/
LOCATION:HATS Ministries\, 123 Garrett Way\, Milledgeville\, GA\, 31061
END:VEVENT
BEGIN:VEVENT
DTSTART;TZID=America/New_York:20260609T180000
DTEND;TZID=America/New_York:20260609T200000
DTSTAMP:20260423T171011
CREATED:20260416T031058Z
LAST-MODIFIED:20260416T031058Z
UID:398-1781028000-1781035200@hatsministries.org
SUMMARY:Good Boundaries and Goodbyes
DESCRIPTION:Join us Tuesday nights at 6 as we review the study “Good Boundaries and Goodbyes”
URL:https://hatsministries.org/event/good-boundaries-and-goodbyes-9/
LOCATION:HATS Ministries\, 123 Garrett Way\, Milledgeville\, GA\, 31061
END:VEVENT
BEGIN:VEVENT
DTSTART;TZID=America/New_York:20260610T120000
DTEND;TZID=America/New_York:20260610T140000
DTSTAMP:20260423T171011
CREATED:20260416T030055Z
LAST-MODIFIED:20260416T030055Z
UID:381-1781092800-1781100000@hatsministries.org
SUMMARY:Crafts Class
DESCRIPTION:Join us Wednesdays at noon as we learn crafts!
URL:https://hatsministries.org/event/crafts-class-10/
LOCATION:HATS Ministries\, 123 Garrett Way\, Milledgeville\, GA\, 31061
END:VEVENT
END:VCALENDAR