BEGIN:VCALENDAR
VERSION:2.0
PRODID:-//HATS Ministries - ECPv6.15.20//NONSGML v1.0//EN
CALSCALE:GREGORIAN
METHOD:PUBLISH
X-WR-CALNAME:HATS Ministries
X-ORIGINAL-URL:https://hatsministries.org
X-WR-CALDESC:Events for HATS Ministries
REFRESH-INTERVAL;VALUE=DURATION:PT1H
X-Robots-Tag:noindex
X-PUBLISHED-TTL:PT1H
BEGIN:VTIMEZONE
TZID:America/New_York
BEGIN:DAYLIGHT
TZOFFSETFROM:-0500
TZOFFSETTO:-0400
TZNAME:EDT
DTSTART:20230312T070000
END:DAYLIGHT
BEGIN:STANDARD
TZOFFSETFROM:-0400
TZOFFSETTO:-0500
TZNAME:EST
DTSTART:20231105T060000
END:STANDARD
BEGIN:DAYLIGHT
TZOFFSETFROM:-0500
TZOFFSETTO:-0400
TZNAME:EDT
DTSTART:20240310T070000
END:DAYLIGHT
BEGIN:STANDARD
TZOFFSETFROM:-0400
TZOFFSETTO:-0500
TZNAME:EST
DTSTART:20241103T060000
END:STANDARD
BEGIN:DAYLIGHT
TZOFFSETFROM:-0500
TZOFFSETTO:-0400
TZNAME:EDT
DTSTART:20250309T070000
END:DAYLIGHT
BEGIN:STANDARD
TZOFFSETFROM:-0400
TZOFFSETTO:-0500
TZNAME:EST
DTSTART:20251102T060000
END:STANDARD
BEGIN:DAYLIGHT
TZOFFSETFROM:-0500
TZOFFSETTO:-0400
TZNAME:EDT
DTSTART:20260308T070000
END:DAYLIGHT
BEGIN:STANDARD
TZOFFSETFROM:-0400
TZOFFSETTO:-0500
TZNAME:EST
DTSTART:20261101T060000
END:STANDARD
END:VTIMEZONE
BEGIN:VEVENT
DTSTART;TZID=America/New_York:20250312T120000
DTEND;TZID=America/New_York:20250312T140000
DTSTAMP:20260424T122201
CREATED:20250204T012547Z
LAST-MODIFIED:20250204T012547Z
UID:191-1741780800-1741788000@hatsministries.org
SUMMARY:Break Every Stinking Chain group study week 9
DESCRIPTION:Group study going over how to handle trauma \nEvery Wednesday from now to March
URL:https://hatsministries.org/event/break-every-stinking-chain-group-study-week-9/
LOCATION:HATS Ministries\, 123 Garrett Way\, Milledgeville\, GA\, 31061
END:VEVENT
BEGIN:VEVENT
DTSTART;TZID=America/New_York:20250306T130000
DTEND;TZID=America/New_York:20250306T150000
DTSTAMP:20260424T122201
CREATED:20250204T013354Z
LAST-MODIFIED:20250204T013354Z
UID:205-1741266000-1741273200@hatsministries.org
SUMMARY:From Despair to Delight week 5
DESCRIPTION:Bible study on the Book of Ruth with emphasis on the topic of grief
URL:https://hatsministries.org/event/from-despair-to-delight-week-5/
LOCATION:HATS Ministries\, 123 Garrett Way\, Milledgeville\, GA\, 31061
END:VEVENT
BEGIN:VEVENT
DTSTART;TZID=America/New_York:20250305T120000
DTEND;TZID=America/New_York:20250305T140000
DTSTAMP:20260424T122201
CREATED:20250204T012458Z
LAST-MODIFIED:20250204T012458Z
UID:189-1741176000-1741183200@hatsministries.org
SUMMARY:Break Every Stinking Chain group study week 8
DESCRIPTION:Group study going over how to handle trauma \nEvery Wednesday from now to March
URL:https://hatsministries.org/event/break-every-stinking-chain-group-study-week-8/
LOCATION:HATS Ministries\, 123 Garrett Way\, Milledgeville\, GA\, 31061
END:VEVENT
BEGIN:VEVENT
DTSTART;TZID=America/New_York:20250227T130000
DTEND;TZID=America/New_York:20250227T150000
DTSTAMP:20260424T122201
CREATED:20250204T013313Z
LAST-MODIFIED:20250204T013313Z
UID:203-1740661200-1740668400@hatsministries.org
SUMMARY:From Despair to Delight week 4
DESCRIPTION:Bible study on the Book of Ruth with emphasis on the topic of grief
URL:https://hatsministries.org/event/from-despair-to-delight-week-4/
LOCATION:HATS Ministries\, 123 Garrett Way\, Milledgeville\, GA\, 31061
END:VEVENT
BEGIN:VEVENT
DTSTART;TZID=America/New_York:20250226T120000
DTEND;TZID=America/New_York:20250226T140000
DTSTAMP:20260424T122201
CREATED:20250204T012342Z
LAST-MODIFIED:20250204T012342Z
UID:187-1740571200-1740578400@hatsministries.org
SUMMARY:Break Every Stinking Chain group study week 7
DESCRIPTION:Group study going over how to handle trauma \nEvery Wednesday from now to March
URL:https://hatsministries.org/event/break-every-stinking-chain-group-study-week-7/
LOCATION:HATS Ministries\, 123 Garrett Way\, Milledgeville\, GA\, 31061
END:VEVENT
BEGIN:VEVENT
DTSTART;TZID=America/New_York:20250220T130000
DTEND;TZID=America/New_York:20250220T150000
DTSTAMP:20260424T122201
CREATED:20250204T013140Z
LAST-MODIFIED:20250204T013140Z
UID:201-1740056400-1740063600@hatsministries.org
SUMMARY:From Despair to Delight week 3
DESCRIPTION:Bible study on the Book of Ruth with emphasis on the topic of grief
URL:https://hatsministries.org/event/from-despair-to-delight-week-3/
LOCATION:HATS Ministries\, 123 Garrett Way\, Milledgeville\, GA\, 31061
END:VEVENT
BEGIN:VEVENT
DTSTART;TZID=America/New_York:20250219T120000
DTEND;TZID=America/New_York:20250219T140000
DTSTAMP:20260424T122201
CREATED:20250204T012300Z
LAST-MODIFIED:20250204T012300Z
UID:185-1739966400-1739973600@hatsministries.org
SUMMARY:Break Every Stinking Chain group study week 6
DESCRIPTION:Group study going over how to handle trauma \nEvery Wednesday from now to March
URL:https://hatsministries.org/event/break-every-stinking-chain-group-study-week-6/
LOCATION:HATS Ministries\, 123 Garrett Way\, Milledgeville\, GA\, 31061
END:VEVENT
BEGIN:VEVENT
DTSTART;TZID=America/New_York:20250213T130000
DTEND;TZID=America/New_York:20250213T150000
DTSTAMP:20260424T122201
CREATED:20250204T013102Z
LAST-MODIFIED:20250204T013102Z
UID:199-1739451600-1739458800@hatsministries.org
SUMMARY:From Despair to Delight week 2
DESCRIPTION:Bible study on the Book of Ruth with emphasis on the topic of grief
URL:https://hatsministries.org/event/from-despair-to-delight-week-2/
LOCATION:HATS Ministries\, 123 Garrett Way\, Milledgeville\, GA\, 31061
END:VEVENT
BEGIN:VEVENT
DTSTART;TZID=America/New_York:20250212T120000
DTEND;TZID=America/New_York:20250212T140000
DTSTAMP:20260424T122201
CREATED:20250204T012219Z
LAST-MODIFIED:20250204T012219Z
UID:183-1739361600-1739368800@hatsministries.org
SUMMARY:Break Every Stinking Chain group study week 5
DESCRIPTION:Group study going over how to handle trauma \nEvery Wednesday from now to March
URL:https://hatsministries.org/event/break-every-stinking-chain-group-study-week-5/
LOCATION:HATS Ministries\, 123 Garrett Way\, Milledgeville\, GA\, 31061
END:VEVENT
BEGIN:VEVENT
DTSTART;TZID=America/New_York:20250206T130000
DTEND;TZID=America/New_York:20250206T150000
DTSTAMP:20260424T122201
CREATED:20250204T013015Z
LAST-MODIFIED:20250204T013015Z
UID:197-1738846800-1738854000@hatsministries.org
SUMMARY:From Despair to Delight week 1
DESCRIPTION:Bible study on the Book of Ruth with emphasis on the topic of grief
URL:https://hatsministries.org/event/from-despair-to-delight-week-1/
LOCATION:HATS Ministries\, 123 Garrett Way\, Milledgeville\, GA\, 31061
END:VEVENT
BEGIN:VEVENT
DTSTART;TZID=America/New_York:20250205T120000
DTEND;TZID=America/New_York:20250205T140000
DTSTAMP:20260424T122201
CREATED:20250204T012058Z
LAST-MODIFIED:20250204T012058Z
UID:181-1738756800-1738764000@hatsministries.org
SUMMARY:Break Every Stinking Chain group study week 4
DESCRIPTION:Group study going over how to handle trauma \nEvery Wednesday from now to March
URL:https://hatsministries.org/event/break-every-stinking-chain-group-study-week-4/
LOCATION:HATS Ministries\, 123 Garrett Way\, Milledgeville\, GA\, 31061
END:VEVENT
BEGIN:VEVENT
DTSTART;TZID=America/New_York:20250129T120000
DTEND;TZID=America/New_York:20250129T140000
DTSTAMP:20260424T122201
CREATED:20250204T011859Z
LAST-MODIFIED:20250204T011859Z
UID:179-1738152000-1738159200@hatsministries.org
SUMMARY:Break Every Stinking Chain group study week 3
DESCRIPTION:Group study going over how to handle trauma \nEvery Wednesday from now to March
URL:https://hatsministries.org/event/break-every-stinking-chain-group-study-week-3/
LOCATION:HATS Ministries\, 123 Garrett Way\, Milledgeville\, GA\, 31061
END:VEVENT
BEGIN:VEVENT
DTSTART;TZID=America/New_York:20250122T120000
DTEND;TZID=America/New_York:20250122T140000
DTSTAMP:20260424T122201
CREATED:20250204T011749Z
LAST-MODIFIED:20250204T011800Z
UID:176-1737547200-1737554400@hatsministries.org
SUMMARY:Break Every Stinking Chain group study week 2
DESCRIPTION:Group study going over how to handle trauma \nEvery Wednesday from now to March
URL:https://hatsministries.org/event/break-every-stinking-chain-group-study-week-1/
LOCATION:HATS Ministries\, 123 Garrett Way\, Milledgeville\, GA\, 31061
END:VEVENT
BEGIN:VEVENT
DTSTART;TZID=America/New_York:20250115T120000
DTEND;TZID=America/New_York:20250115T140000
DTSTAMP:20260424T122201
CREATED:20250204T011131Z
LAST-MODIFIED:20250204T011534Z
UID:171-1736942400-1736949600@hatsministries.org
SUMMARY:Break Every Stinking Chain group study week 1
DESCRIPTION:Group study going over how to handle trauma \nEvery Wednesday from now to March
URL:https://hatsministries.org/event/break-every-stinking-chain-group-study/
LOCATION:HATS Ministries\, 123 Garrett Way\, Milledgeville\, GA\, 31061
END:VEVENT
BEGIN:VEVENT
DTSTART;TZID=America/New_York:20241203T100000
DTEND;TZID=America/New_York:20241203T130000
DTSTAMP:20260424T122201
CREATED:20241111T154826Z
LAST-MODIFIED:20241111T154826Z
UID:167-1733220000-1733230800@hatsministries.org
SUMMARY:Card Making Demonstration
DESCRIPTION:Come by and learn how to make Christmas cards or cards for any occasion. \nRefreshments provided!
URL:https://hatsministries.org/event/card-making-demonstration/
LOCATION:HATS Ministries\, 123 Garrett Way\, Milledgeville\, GA\, 31061
END:VEVENT
BEGIN:VEVENT
DTSTART;TZID=America/New_York:20241111T100000
DTEND;TZID=America/New_York:20241111T160000
DTSTAMP:20260424T122201
CREATED:20241111T154443Z
LAST-MODIFIED:20241111T155013Z
UID:162-1731319200-1731340800@hatsministries.org
SUMMARY:Open House
DESCRIPTION:Join Us for a Heartwarming Open House Event! \nYou’re invited to an inspiring day of community at the HATS Open House Event! Discover the impactful work we do\, meet the dedicated team behind our mission\, and learn how you can make a difference. There will be engaging activities\, informative sessions\, and opportunities to connect with like-minded individuals who share a passion for creating positive change. Bring your family and friends! \nDate: 11/20/2024 Time: 10a-4p \nDon’t miss this chance to be part of something truly special. Together\, we can make the world a better place\, one step at a time.
URL:https://hatsministries.org/event/open-house/
LOCATION:HATS Ministries\, 123 Garrett Way\, Milledgeville\, GA\, 31061
END:VEVENT
BEGIN:VEVENT
DTSTART;TZID=America/New_York:20241102T150000
DTEND;TZID=America/New_York:20241102T173000
DTSTAMP:20260424T122201
CREATED:20241011T011920Z
LAST-MODIFIED:20241011T011920Z
UID:158-1730559600-1730568600@hatsministries.org
SUMMARY:Paint and Punch Party
DESCRIPTION:Unleash your creativity and make a difference at our Paint and Punch Party!  Whether you’re an experienced artist or just looking to have some fun\, this event is perfect for everyone. \nFollow along with a professional artist to create your own masterpiece.\nEnjoy light snacks and beverages while you paint. \nThis event is open to only youth and adults due to working with paint. \nAll proceeds from this event will go towards HATS. Your participation will help us make a positive impact in our community. \n  \nSign up for Paint and Punch Party \nPlease enable JavaScript in your browser to complete this form.Please enable JavaScript in your browser to complete this form.EventPaint and PunchName *FirstLast		\n			Name or Email\n			\n		\n		Email *Comment or MessageSubmit  \n  \nPay for Event ($35)
URL:https://hatsministries.org/event/paint-and-punch-party-2/
LOCATION:HATS Ministries\, 123 Garrett Way\, Milledgeville\, GA\, 31061
END:VEVENT
BEGIN:VEVENT
DTSTART;TZID=America/New_York:20240907T160000
DTEND;TZID=America/New_York:20240907T183000
DTSTAMP:20260424T122201
CREATED:20240611T020353Z
LAST-MODIFIED:20240810T015050Z
UID:90-1725724800-1725733800@hatsministries.org
SUMMARY:Paint and Punch Party
DESCRIPTION:Unleash your creativity and make a difference at our Paint and Punch Party!  Whether you’re an experienced artist or just looking to have some fun\, this event is perfect for everyone. \nFollow along with a professional artist to create your own masterpiece.\nEnjoy light snacks and beverages while you paint. \nThis event is open to only youth and adults due to working with paint. \nAll proceeds from this event will go towards HATS. Your participation will help us make a positive impact in our community. \n  \nSign up for Paint and Punch Party \nPlease enable JavaScript in your browser to complete this form.Please enable JavaScript in your browser to complete this form.EventPaint and Punch		\n			Name Email Comment\n			\n		\n		Name *FirstLastEmail *Comment or MessageSubmit  \n  \nPay for Event ($35)
URL:https://hatsministries.org/event/paint-and-punch-party/
LOCATION:HATS Ministries\, 123 Garrett Way\, Milledgeville\, GA\, 31061
END:VEVENT
BEGIN:VEVENT
DTSTART;TZID=America/New_York:20240803T180000
DTEND;TZID=America/New_York:20240803T200000
DTSTAMP:20260424T122201
CREATED:20240609T022116Z
LAST-MODIFIED:20240720T194518Z
UID:81-1722708000-1722715200@hatsministries.org
SUMMARY:Evening of Praise/Fundraiser
DESCRIPTION:Scan the QR code to request your favorite hymn or register your group to sing
URL:https://hatsministries.org/event/evening-of-praise-fundraiser/
LOCATION:Adam’s Acres\, 150 old river bridge road \, Milledgeville\, GA\, 31061
END:VEVENT
BEGIN:VEVENT
DTSTART;TZID=America/New_York:20240629T080000
DTEND;TZID=America/New_York:20240629T120000
DTSTAMP:20260424T122201
CREATED:20240609T021451Z
LAST-MODIFIED:20240609T021451Z
UID:78-1719648000-1719662400@hatsministries.org
SUMMARY:Yard Sale
DESCRIPTION:
URL:https://hatsministries.org/event/yard-sale/
LOCATION:HATS Ministries\, 123 Garrett Way\, Milledgeville\, GA\, 31061
END:VEVENT
END:VCALENDAR