BEGIN:VCALENDAR
VERSION:2.0
PRODID:-//HATS Ministries - ECPv6.15.20//NONSGML v1.0//EN
CALSCALE:GREGORIAN
METHOD:PUBLISH
X-WR-CALNAME:HATS Ministries
X-ORIGINAL-URL:https://hatsministries.org
X-WR-CALDESC:Events for HATS Ministries
REFRESH-INTERVAL;VALUE=DURATION:PT1H
X-Robots-Tag:noindex
X-PUBLISHED-TTL:PT1H
BEGIN:VTIMEZONE
TZID:America/New_York
BEGIN:DAYLIGHT
TZOFFSETFROM:-0500
TZOFFSETTO:-0400
TZNAME:EDT
DTSTART:20240310T070000
END:DAYLIGHT
BEGIN:STANDARD
TZOFFSETFROM:-0400
TZOFFSETTO:-0500
TZNAME:EST
DTSTART:20241103T060000
END:STANDARD
BEGIN:DAYLIGHT
TZOFFSETFROM:-0500
TZOFFSETTO:-0400
TZNAME:EDT
DTSTART:20250309T070000
END:DAYLIGHT
BEGIN:STANDARD
TZOFFSETFROM:-0400
TZOFFSETTO:-0500
TZNAME:EST
DTSTART:20251102T060000
END:STANDARD
BEGIN:DAYLIGHT
TZOFFSETFROM:-0500
TZOFFSETTO:-0400
TZNAME:EDT
DTSTART:20260308T070000
END:DAYLIGHT
BEGIN:STANDARD
TZOFFSETFROM:-0400
TZOFFSETTO:-0500
TZNAME:EST
DTSTART:20261101T060000
END:STANDARD
BEGIN:DAYLIGHT
TZOFFSETFROM:-0500
TZOFFSETTO:-0400
TZNAME:EDT
DTSTART:20270314T070000
END:DAYLIGHT
BEGIN:STANDARD
TZOFFSETFROM:-0400
TZOFFSETTO:-0500
TZNAME:EST
DTSTART:20271107T060000
END:STANDARD
END:VTIMEZONE
BEGIN:VEVENT
DTSTART;TZID=America/New_York:20260428T110000
DTEND;TZID=America/New_York:20260428T130000
DTSTAMP:20260423T191745
CREATED:20260416T025150Z
LAST-MODIFIED:20260416T025150Z
UID:363-1777374000-1777381200@hatsministries.org
SUMMARY:Chair Aerobics
DESCRIPTION:Join us for Chair Aerobics weekly on Tuesdays and Thursdays at 11 AM
URL:https://hatsministries.org/event/chair-aerobics-7/
LOCATION:HATS Ministries\, 123 Garrett Way\, Milledgeville\, GA\, 31061
CATEGORIES:Party
END:VEVENT
BEGIN:VEVENT
DTSTART;TZID=America/New_York:20260423T110000
DTEND;TZID=America/New_York:20260423T130000
DTSTAMP:20260423T191745
CREATED:20260416T025148Z
LAST-MODIFIED:20260416T025148Z
UID:362-1776942000-1776949200@hatsministries.org
SUMMARY:Chair Aerobics
DESCRIPTION:Join us for Chair Aerobics weekly on Tuesdays and Thursdays at 11 AM
URL:https://hatsministries.org/event/chair-aerobics-6/
LOCATION:HATS Ministries\, 123 Garrett Way\, Milledgeville\, GA\, 31061
CATEGORIES:Party
END:VEVENT
BEGIN:VEVENT
DTSTART;TZID=America/New_York:20260422T120000
DTEND;TZID=America/New_York:20260422T140000
DTSTAMP:20260423T191745
CREATED:20260416T030042Z
LAST-MODIFIED:20260416T030042Z
UID:374-1776859200-1776866400@hatsministries.org
SUMMARY:Crafts Class
DESCRIPTION:Join us Wednesdays at noon as we learn crafts!
URL:https://hatsministries.org/event/crafts-class-3/
LOCATION:HATS Ministries\, 123 Garrett Way\, Milledgeville\, GA\, 31061
END:VEVENT
BEGIN:VEVENT
DTSTART;TZID=America/New_York:20260421T180000
DTEND;TZID=America/New_York:20260421T200000
DTSTAMP:20260423T191745
CREATED:20260416T031046Z
LAST-MODIFIED:20260416T031046Z
UID:391-1776794400-1776801600@hatsministries.org
SUMMARY:Good Boundaries and Goodbyes
DESCRIPTION:Join us Tuesday nights at 6 as we review the study “Good Boundaries and Goodbyes”
URL:https://hatsministries.org/event/good-boundaries-and-goodbyes-2/
LOCATION:HATS Ministries\, 123 Garrett Way\, Milledgeville\, GA\, 31061
END:VEVENT
BEGIN:VEVENT
DTSTART;TZID=America/New_York:20260421T110000
DTEND;TZID=America/New_York:20260421T130000
DTSTAMP:20260423T191745
CREATED:20260416T025146Z
LAST-MODIFIED:20260416T025146Z
UID:361-1776769200-1776776400@hatsministries.org
SUMMARY:Chair Aerobics
DESCRIPTION:Join us for Chair Aerobics weekly on Tuesdays and Thursdays at 11 AM
URL:https://hatsministries.org/event/chair-aerobics-5/
LOCATION:HATS Ministries\, 123 Garrett Way\, Milledgeville\, GA\, 31061
CATEGORIES:Party
END:VEVENT
BEGIN:VEVENT
DTSTART;TZID=America/New_York:20260416T110000
DTEND;TZID=America/New_York:20260416T130000
DTSTAMP:20260423T191745
CREATED:20260416T025145Z
LAST-MODIFIED:20260416T025145Z
UID:360-1776337200-1776344400@hatsministries.org
SUMMARY:Chair Aerobics
DESCRIPTION:Join us for Chair Aerobics weekly on Tuesdays and Thursdays at 11 AM
URL:https://hatsministries.org/event/chair-aerobics-4/
LOCATION:HATS Ministries\, 123 Garrett Way\, Milledgeville\, GA\, 31061
CATEGORIES:Party
END:VEVENT
BEGIN:VEVENT
DTSTART;TZID=America/New_York:20260415T120000
DTEND;TZID=America/New_York:20260415T140000
DTSTAMP:20260423T191745
CREATED:20260416T030039Z
LAST-MODIFIED:20260416T030039Z
UID:373-1776254400-1776261600@hatsministries.org
SUMMARY:Crafts Class
DESCRIPTION:Join us Wednesdays at noon as we learn crafts!
URL:https://hatsministries.org/event/crafts-class-2/
LOCATION:HATS Ministries\, 123 Garrett Way\, Milledgeville\, GA\, 31061
END:VEVENT
BEGIN:VEVENT
DTSTART;TZID=America/New_York:20260414T180000
DTEND;TZID=America/New_York:20260414T200000
DTSTAMP:20260423T191745
CREATED:20260416T031043Z
LAST-MODIFIED:20260416T031043Z
UID:390-1776189600-1776196800@hatsministries.org
SUMMARY:Good Boundaries and Goodbyes
DESCRIPTION:Join us Tuesday nights at 6 as we review the study “Good Boundaries and Goodbyes”
URL:https://hatsministries.org/event/good-boundaries-and-goodbyes/
LOCATION:HATS Ministries\, 123 Garrett Way\, Milledgeville\, GA\, 31061
END:VEVENT
BEGIN:VEVENT
DTSTART;TZID=America/New_York:20260414T110000
DTEND;TZID=America/New_York:20260414T130000
DTSTAMP:20260423T191745
CREATED:20260416T025137Z
LAST-MODIFIED:20260416T025137Z
UID:359-1776164400-1776171600@hatsministries.org
SUMMARY:Chair Aerobics
DESCRIPTION:Join us for Chair Aerobics weekly on Tuesdays and Thursdays at 11 AM
URL:https://hatsministries.org/event/chair-aerobics-3/
LOCATION:HATS Ministries\, 123 Garrett Way\, Milledgeville\, GA\, 31061
CATEGORIES:Party
END:VEVENT
BEGIN:VEVENT
DTSTART;TZID=America/New_York:20260214T120000
DTEND;TZID=America/New_York:20260214T140000
DTSTAMP:20260423T191745
CREATED:20260120T062832Z
LAST-MODIFIED:20260120T062836Z
UID:346-1771070400-1771077600@hatsministries.org
SUMMARY:Widows Valentine's Day Luncheon
DESCRIPTION:This Valentine’s Day\, join us for a luncheon as we celebrate a day of love with others\, in honor of those who have also lost someone precious to them.
URL:https://hatsministries.org/event/widows-valentines-day-luncheon/
LOCATION:HATS Ministries\, 123 Garrett Way\, Milledgeville\, GA\, 31061
END:VEVENT
BEGIN:VEVENT
DTSTART;TZID=America/New_York:20260211T130000
DTEND;TZID=America/New_York:20260211T170000
DTSTAMP:20260423T191745
CREATED:20260120T062028Z
LAST-MODIFIED:20260120T062032Z
UID:344-1770814800-1770829200@hatsministries.org
SUMMARY:Journaling through Grief
DESCRIPTION:Join us as we welcome Angie Hunt to lead us on a discussion of constructive ways to process grief
URL:https://hatsministries.org/event/journaling-through-grief/
LOCATION:HATS Ministries\, 123 Garrett Way\, Milledgeville\, GA\, 31061
END:VEVENT
BEGIN:VEVENT
DTSTART;TZID=America/New_York:20260203T183000
DTEND;TZID=America/New_York:20260203T200000
DTSTAMP:20260423T191745
CREATED:20260120T061741Z
LAST-MODIFIED:20260120T061745Z
UID:342-1770143400-1770148800@hatsministries.org
SUMMARY:New study course: Forgiving what you can't forget
DESCRIPTION:Join us on Tuesday nights as we start the “Forgiving what you can’t forget” study by Lysa Terkeurst. \nCourse lasts 7 weeks
URL:https://hatsministries.org/event/new-study-course-forgiving-what-you-cant-forget/
LOCATION:HATS Ministries\, 123 Garrett Way\, Milledgeville\, GA\, 31061
END:VEVENT
BEGIN:VEVENT
DTSTART;TZID=America/New_York:20260124T140000
DTEND;TZID=America/New_York:20260124T160000
DTSTAMP:20260423T191745
CREATED:20260120T061344Z
LAST-MODIFIED:20260120T061349Z
UID:340-1769263200-1769270400@hatsministries.org
SUMMARY:Paint & Punch Party
DESCRIPTION:Join us for the January 2026 paint and punch party!
URL:https://hatsministries.org/event/paint-punch-party/
LOCATION:HATS Ministries\, 123 Garrett Way\, Milledgeville\, GA\, 31061
END:VEVENT
BEGIN:VEVENT
DTSTART;TZID=America/New_York:20260122T130000
DTEND;TZID=America/New_York:20260122T140000
DTSTAMP:20260423T191745
CREATED:20260120T063315Z
LAST-MODIFIED:20260120T063315Z
UID:352-1769086800-1769090400@hatsministries.org
SUMMARY:Learn to play Recorder
DESCRIPTION:Join us on Thursdays at 1 as we learn to play the recorder
URL:https://hatsministries.org/event/learn-to-play-recorder/
LOCATION:HATS Ministries\, 123 Garrett Way\, Milledgeville\, GA\, 31061
END:VEVENT
BEGIN:VEVENT
DTSTART;TZID=America/New_York:20260122T120000
DTEND;TZID=America/New_York:20260122T123000
DTSTAMP:20260423T191745
CREATED:20260120T061116Z
LAST-MODIFIED:20260120T061116Z
UID:338-1769083200-1769085000@hatsministries.org
SUMMARY:Chair Aerobics
DESCRIPTION:Join us for Chair Aerobics weekly on Tuesdays and Thursdays at noon.
URL:https://hatsministries.org/event/chair-aerobics-2/
LOCATION:HATS Ministries\, 123 Garrett Way\, Milledgeville\, GA\, 31061
END:VEVENT
BEGIN:VEVENT
DTSTART;TZID=America/New_York:20260122T093000
DTEND;TZID=America/New_York:20260122T103000
DTSTAMP:20260423T191745
CREATED:20260120T063157Z
LAST-MODIFIED:20260120T063157Z
UID:350-1769074200-1769077800@hatsministries.org
SUMMARY:ESL course
DESCRIPTION:Do you know someone who struggles with English? Join us on Thursday mornings for our ESL course.
URL:https://hatsministries.org/event/esl-course/
LOCATION:HATS Ministries\, 123 Garrett Way\, Milledgeville\, GA\, 31061
END:VEVENT
BEGIN:VEVENT
DTSTART;TZID=America/New_York:20260121T120000
DTEND;TZID=America/New_York:20260121T140000
DTSTAMP:20260423T191745
CREATED:20260120T062940Z
LAST-MODIFIED:20260120T062940Z
UID:348-1768996800-1769004000@hatsministries.org
SUMMARY:Crafts Class
DESCRIPTION:Join us Wednesdays at noon as we learn crafts!
URL:https://hatsministries.org/event/crafts-class/
LOCATION:HATS Ministries\, 123 Garrett Way\, Milledgeville\, GA\, 31061
END:VEVENT
BEGIN:VEVENT
DTSTART;TZID=America/New_York:20260120T120000
DTEND;TZID=America/New_York:20260120T123000
DTSTAMP:20260423T191745
CREATED:20260120T060844Z
LAST-MODIFIED:20260120T060844Z
UID:336-1768910400-1768912200@hatsministries.org
SUMMARY:Chair Aerobics
DESCRIPTION:Join us for Chair Aerobics weekly on Tuesdays and Thursdays at noon.
URL:https://hatsministries.org/event/chair-aerobics/
LOCATION:HATS Ministries\, 123 Garrett Way\, Milledgeville\, GA\, 31061
END:VEVENT
BEGIN:VEVENT
DTSTART;TZID=America/New_York:20251108T110000
DTEND;TZID=America/New_York:20251108T130000
DTSTAMP:20260423T191745
CREATED:20251025T151107Z
LAST-MODIFIED:20251025T151111Z
UID:332-1762599600-1762606800@hatsministries.org
SUMMARY:Christmas Paint and Punch
DESCRIPTION:Unleash your creativity and make a difference at our Christmas Paint and Punch Party!  Whether you’re an experienced artist or just looking to have some fun\, this event is perfect for everyone. \nEnjoy light snacks and beverages while you paint. \nThis event is open to only youth and adults due to working with paint. \nAll proceeds from this event will go towards HATS. Your participation will help us make a positive impact in our community. \n  \nSign up for Christmas Paint and Punch Party \nPlease enable JavaScript in your browser to complete this form.Please enable JavaScript in your browser to complete this form.EventPaint and PunchName *FirstLastEmail *		\n			Message Event Comment\n			\n		\n		Comment or MessageSubmit  \n  \nPay for Event ($35)
URL:https://hatsministries.org/event/christmas-paint-and-punch/
LOCATION:HATS Ministries\, 123 Garrett Way\, Milledgeville\, GA\, 31061
END:VEVENT
BEGIN:VEVENT
DTSTART;TZID=America/New_York:20251025T180000
DTEND;TZID=America/New_York:20251025T200000
DTSTAMP:20260423T191745
CREATED:20250730T014121Z
LAST-MODIFIED:20250730T014125Z
UID:297-1761415200-1761422400@hatsministries.org
SUMMARY:Gaither Themed Evening of Praise & Silent Auction
DESCRIPTION:We are looking for \n\nSoloists\nDuets\nTrios\nQuartets\n\nOr ANY group size who would like to sing a Gaither Themed song at this event. \nYou can register your group and the song(s) you would like to perform for this event by clicking this link: Gaither Night of Praise \nOr email hatsministries@gmail.com to sign up. \n  \nAdmission is free but we will be having a silent auction \nAll proceeds go to support the work of HATS. \n 
URL:https://hatsministries.org/event/gaither-themed-evening-of-praise-silent-auction/
LOCATION:Adam’s Acres\, 150 old river bridge road \, Milledgeville\, GA\, 31061
END:VEVENT
BEGIN:VEVENT
DTSTART;TZID=America/New_York:20251015T103000
DTEND;TZID=America/New_York:20251015T120000
DTSTAMP:20260423T191745
CREATED:20250917T005609Z
LAST-MODIFIED:20250917T005609Z
UID:324-1760524200-1760529600@hatsministries.org
SUMMARY:Book Club
DESCRIPTION:Join us for book club! \nThis week: The Cost of Discipleship” by Dietrich Bonhoeffer.
URL:https://hatsministries.org/event/book-club-10/
LOCATION:HATS Ministries\, 123 Garrett Way\, Milledgeville\, GA\, 31061
END:VEVENT
BEGIN:VEVENT
DTSTART;TZID=America/New_York:20251014T183000
DTEND;TZID=America/New_York:20251014T200000
DTSTAMP:20260423T191745
CREATED:20250916T110521Z
LAST-MODIFIED:20250916T110521Z
UID:308-1760466600-1760472000@hatsministries.org
SUMMARY:"The Names of God" Bible Study
DESCRIPTION:Join us as we continue our “The Names of God” bible study.
URL:https://hatsministries.org/event/the-names-of-god-bible-study-5/
LOCATION:HATS Ministries\, 123 Garrett Way\, Milledgeville\, GA\, 31061
END:VEVENT
BEGIN:VEVENT
DTSTART;TZID=America/New_York:20251008T103000
DTEND;TZID=America/New_York:20251008T120000
DTSTAMP:20260423T191745
CREATED:20250917T005518Z
LAST-MODIFIED:20250917T005518Z
UID:322-1759919400-1759924800@hatsministries.org
SUMMARY:Book Club
DESCRIPTION:Join us for book club! \nThis week: The Cost of Discipleship” by Dietrich Bonhoeffer.
URL:https://hatsministries.org/event/book-club-9/
LOCATION:HATS Ministries\, 123 Garrett Way\, Milledgeville\, GA\, 31061
END:VEVENT
BEGIN:VEVENT
DTSTART;TZID=America/New_York:20251007T183000
DTEND;TZID=America/New_York:20251007T200000
DTSTAMP:20260423T191745
CREATED:20250916T110406Z
LAST-MODIFIED:20250916T110406Z
UID:306-1759861800-1759867200@hatsministries.org
SUMMARY:"The Names of God" Bible Study
DESCRIPTION:Join us as we continue our “The Names of God” bible study.
URL:https://hatsministries.org/event/the-names-of-god-bible-study-4/
LOCATION:HATS Ministries\, 123 Garrett Way\, Milledgeville\, GA\, 31061
END:VEVENT
BEGIN:VEVENT
DTSTART;TZID=America/New_York:20251004T140000
DTEND;TZID=America/New_York:20251004T160000
DTSTAMP:20260423T191745
CREATED:20250916T111323Z
LAST-MODIFIED:20250916T111323Z
UID:313-1759586400-1759593600@hatsministries.org
SUMMARY:Movie Day!
DESCRIPTION:Join us for Movie Day \nWe’ll be watching “Bonhoeffer: Pastor. Spy. Assassin” (2024)
URL:https://hatsministries.org/event/movie-day/
LOCATION:HATS Ministries\, 123 Garrett Way\, Milledgeville\, GA\, 31061
END:VEVENT
BEGIN:VEVENT
DTSTART;TZID=America/New_York:20251001T103000
DTEND;TZID=America/New_York:20251001T120000
DTSTAMP:20260423T191745
CREATED:20250917T005440Z
LAST-MODIFIED:20250917T005440Z
UID:320-1759314600-1759320000@hatsministries.org
SUMMARY:Book Club
DESCRIPTION:Join us for book club! \nThis week: The Cost of Discipleship” by Dietrich Bonhoeffer.
URL:https://hatsministries.org/event/book-club-8/
LOCATION:HATS Ministries\, 123 Garrett Way\, Milledgeville\, GA\, 31061
END:VEVENT
BEGIN:VEVENT
DTSTART;TZID=America/New_York:20250930T183000
DTEND;TZID=America/New_York:20250930T200000
DTSTAMP:20260423T191745
CREATED:20250916T110308Z
LAST-MODIFIED:20250916T110308Z
UID:304-1759257000-1759262400@hatsministries.org
SUMMARY:"The Names of God" Bible study.
DESCRIPTION:Join us as we continue our “The Names of God” bible study.
URL:https://hatsministries.org/event/the-names-of-god-bible-study-3/
LOCATION:HATS Ministries\, 123 Garrett Way\, Milledgeville\, GA\, 31061
END:VEVENT
BEGIN:VEVENT
DTSTART;TZID=America/New_York:20250927T100000
DTEND;TZID=America/New_York:20250927T120000
DTSTAMP:20260423T191745
CREATED:20250916T110834Z
LAST-MODIFIED:20250916T111111Z
UID:310-1758967200-1758974400@hatsministries.org
SUMMARY:Leaf Casting Craft Fundraiser
DESCRIPTION:Join us for another craft fundraiser! \nThis time we will be doing leaf casting. Bring a friend and help out a good cause. \nCost $35
URL:https://hatsministries.org/event/leaf-casting-craft-fundraiser/
LOCATION:HATS Ministries\, 123 Garrett Way\, Milledgeville\, GA\, 31061
END:VEVENT
BEGIN:VEVENT
DTSTART;TZID=America/New_York:20250924T103000
DTEND;TZID=America/New_York:20250924T120000
DTSTAMP:20260423T191745
CREATED:20250917T005358Z
LAST-MODIFIED:20250917T005358Z
UID:318-1758709800-1758715200@hatsministries.org
SUMMARY:Book Club
DESCRIPTION:Join us for book club! \nThis week: The Cost of Discipleship” by Dietrich Bonhoeffer.
URL:https://hatsministries.org/event/book-club-7/
LOCATION:HATS Ministries\, 123 Garrett Way\, Milledgeville\, GA\, 31061
END:VEVENT
BEGIN:VEVENT
DTSTART;TZID=America/New_York:20250923T183000
DTEND;TZID=America/New_York:20250923T200000
DTSTAMP:20260423T191745
CREATED:20250916T110150Z
LAST-MODIFIED:20250916T110150Z
UID:302-1758652200-1758657600@hatsministries.org
SUMMARY:"The Names of God" Bible Study.
DESCRIPTION:Join us as we continue our “The Names of God” bible study.
URL:https://hatsministries.org/event/the-names-of-god-bible-study-2/
LOCATION:HATS Ministries\, 123 Garrett Way\, Milledgeville\, GA\, 31061
END:VEVENT
END:VCALENDAR