BEGIN:VCALENDAR
VERSION:2.0
PRODID:-//HATS Ministries - ECPv6.15.20//NONSGML v1.0//EN
CALSCALE:GREGORIAN
METHOD:PUBLISH
X-ORIGINAL-URL:https://hatsministries.org
X-WR-CALDESC:Events for HATS Ministries
REFRESH-INTERVAL;VALUE=DURATION:PT1H
X-Robots-Tag:noindex
X-PUBLISHED-TTL:PT1H
BEGIN:VTIMEZONE
TZID:America/New_York
BEGIN:DAYLIGHT
TZOFFSETFROM:-0500
TZOFFSETTO:-0400
TZNAME:EDT
DTSTART:20240310T070000
END:DAYLIGHT
BEGIN:STANDARD
TZOFFSETFROM:-0400
TZOFFSETTO:-0500
TZNAME:EST
DTSTART:20241103T060000
END:STANDARD
BEGIN:DAYLIGHT
TZOFFSETFROM:-0500
TZOFFSETTO:-0400
TZNAME:EDT
DTSTART:20250309T070000
END:DAYLIGHT
BEGIN:STANDARD
TZOFFSETFROM:-0400
TZOFFSETTO:-0500
TZNAME:EST
DTSTART:20251102T060000
END:STANDARD
BEGIN:DAYLIGHT
TZOFFSETFROM:-0500
TZOFFSETTO:-0400
TZNAME:EDT
DTSTART:20260308T070000
END:DAYLIGHT
BEGIN:STANDARD
TZOFFSETFROM:-0400
TZOFFSETTO:-0500
TZNAME:EST
DTSTART:20261101T060000
END:STANDARD
END:VTIMEZONE
BEGIN:VEVENT
DTSTART;TZID=America/New_York:20250916T183000
DTEND;TZID=America/New_York:20250916T200000
DTSTAMP:20260423T174757
CREATED:20250916T110053Z
LAST-MODIFIED:20250916T110053Z
UID:300-1758047400-1758052800@hatsministries.org
SUMMARY:"The Names of God" Bible Study
DESCRIPTION:Join us as we continue our “The Names of God” bible study.
URL:https://hatsministries.org/event/the-names-of-god-bible-study/
LOCATION:HATS Ministries\, 123 Garrett Way\, Milledgeville\, GA\, 31061
END:VEVENT
BEGIN:VEVENT
DTSTART;TZID=America/New_York:20250821T103000
DTEND;TZID=America/New_York:20250821T120000
DTSTAMP:20260423T174757
CREATED:20250505T030958Z
LAST-MODIFIED:20250505T030958Z
UID:290-1755772200-1755777600@hatsministries.org
SUMMARY:Despair to Delight Course
DESCRIPTION:Bible study on the book of Ruth with focus on Grief
URL:https://hatsministries.org/event/despair-to-delight-course-7/
LOCATION:HATS Ministries\, 123 Garrett Way\, Milledgeville\, GA\, 31061
END:VEVENT
BEGIN:VEVENT
DTSTART;TZID=America/New_York:20250814T103000
DTEND;TZID=America/New_York:20250814T120000
DTSTAMP:20260423T174757
CREATED:20250505T030915Z
LAST-MODIFIED:20250505T030915Z
UID:288-1755167400-1755172800@hatsministries.org
SUMMARY:Despair to Delight Course
DESCRIPTION:Bible study on the book of Ruth with focus on Grief
URL:https://hatsministries.org/event/despair-to-delight-course-6/
LOCATION:HATS Ministries\, 123 Garrett Way\, Milledgeville\, GA\, 31061
END:VEVENT
BEGIN:VEVENT
DTSTART;TZID=America/New_York:20250807T103000
DTEND;TZID=America/New_York:20250807T120000
DTSTAMP:20260423T174757
CREATED:20250505T030837Z
LAST-MODIFIED:20250505T030837Z
UID:286-1754562600-1754568000@hatsministries.org
SUMMARY:Despair to Delight Course
DESCRIPTION:Bible study on the book of Ruth with focus on Grief
URL:https://hatsministries.org/event/despair-to-delight-course-5/
LOCATION:HATS Ministries\, 123 Garrett Way\, Milledgeville\, GA\, 31061
END:VEVENT
BEGIN:VEVENT
DTSTART;TZID=America/New_York:20250731T103000
DTEND;TZID=America/New_York:20250731T120000
DTSTAMP:20260423T174757
CREATED:20250505T030720Z
LAST-MODIFIED:20250505T030720Z
UID:284-1753957800-1753963200@hatsministries.org
SUMMARY:Despair to Delight Course
DESCRIPTION:Bible study on the book of Ruth with focus on Grief
URL:https://hatsministries.org/event/despair-to-delight-course-4/
LOCATION:HATS Ministries\, 123 Garrett Way\, Milledgeville\, GA\, 31061
END:VEVENT
BEGIN:VEVENT
DTSTART;TZID=America/New_York:20250724T103000
DTEND;TZID=America/New_York:20250724T120000
DTSTAMP:20260423T174757
CREATED:20250505T030643Z
LAST-MODIFIED:20250505T030643Z
UID:282-1753353000-1753358400@hatsministries.org
SUMMARY:Despair to Delight Course
DESCRIPTION:Bible study on the book of Ruth with focus on Grief
URL:https://hatsministries.org/event/despair-to-delight-course-3/
LOCATION:HATS Ministries\, 123 Garrett Way\, Milledgeville\, GA\, 31061
END:VEVENT
BEGIN:VEVENT
DTSTART;TZID=America/New_York:20250717T103000
DTEND;TZID=America/New_York:20250717T120000
DTSTAMP:20260423T174757
CREATED:20250505T030602Z
LAST-MODIFIED:20250505T030602Z
UID:280-1752748200-1752753600@hatsministries.org
SUMMARY:Despair to Delight Course
DESCRIPTION:Bible study on the book of Ruth with focus on Grief
URL:https://hatsministries.org/event/despair-to-delight-course-2/
LOCATION:HATS Ministries\, 123 Garrett Way\, Milledgeville\, GA\, 31061
END:VEVENT
BEGIN:VEVENT
DTSTART;TZID=America/New_York:20250710T103000
DTEND;TZID=America/New_York:20250710T120000
DTSTAMP:20260423T174757
CREATED:20250505T030329Z
LAST-MODIFIED:20250505T030329Z
UID:276-1752143400-1752148800@hatsministries.org
SUMMARY:Despair to Delight Course
DESCRIPTION:Bible study on the book of Ruth with focus on Grief
URL:https://hatsministries.org/event/despair-to-delight-course/
LOCATION:HATS Ministries\, 123 Garrett Way\, Milledgeville\, GA\, 31061
END:VEVENT
BEGIN:VEVENT
DTSTART;TZID=America/New_York:20250619T100000
DTEND;TZID=America/New_York:20250619T110000
DTSTAMP:20260423T174757
CREATED:20250505T024753Z
LAST-MODIFIED:20250505T024753Z
UID:264-1750327200-1750330800@hatsministries.org
SUMMARY:Finding Freedom through Budgeting: Session 3
DESCRIPTION:This course is 3 sessions \nMay 22: Session 1 \nJune 5: Session 2 \nJune 19: Session 3 \nMeant to help the participants discover where they are spending their money and help them come with better spending strategies and build a proper budget.
URL:https://hatsministries.org/event/finding-freedom-through-budgeting-session-3/
LOCATION:HATS Ministries\, 123 Garrett Way\, Milledgeville\, GA\, 31061
END:VEVENT
BEGIN:VEVENT
DTSTART;TZID=America/New_York:20250607T140000
DTEND;TZID=America/New_York:20250607T160000
DTSTAMP:20260423T174757
CREATED:20250505T025248Z
LAST-MODIFIED:20250505T031209Z
UID:266-1749304800-1749312000@hatsministries.org
SUMMARY:Paint and Punch
DESCRIPTION:Come and help raise money for HATS by visiting our paint and punch fundraiser \nThis events theme is: Patriotic door hangers for the Fourth of July! \n  \nPunch and light refreshments provided \nCost: $35 \nPlease enable JavaScript in your browser to complete this form.Please enable JavaScript in your browser to complete this form.		\n			Message Name Comment\n			\n		\n		EventPaint and PunchName *FirstLastEmail *Comment or MessageSubmit
URL:https://hatsministries.org/event/paint-and-punch/
LOCATION:HATS Ministries\, 123 Garrett Way\, Milledgeville\, GA\, 31061
END:VEVENT
BEGIN:VEVENT
DTSTART;TZID=America/New_York:20250605T100000
DTEND;TZID=America/New_York:20250605T110000
DTSTAMP:20260423T174757
CREATED:20250505T024644Z
LAST-MODIFIED:20250505T024644Z
UID:262-1749117600-1749121200@hatsministries.org
SUMMARY:Finding Freedom through Budgeting: Session 2
DESCRIPTION:This course is 3 sessions \nMay 22: Session 1 \nJune 5: Session 2 \nJune 19: Session 3 \nMeant to help the participants discover where they are spending their money and help them come with better spending strategies and build a proper budget.
URL:https://hatsministries.org/event/finding-freedom-through-budgeting-session-2/
LOCATION:HATS Ministries\, 123 Garrett Way\, Milledgeville\, GA\, 31061
END:VEVENT
BEGIN:VEVENT
DTSTART;TZID=America/New_York:20250528T120000
DTEND;TZID=America/New_York:20250528T130000
DTSTAMP:20260423T174757
CREATED:20250505T030113Z
LAST-MODIFIED:20250505T030113Z
UID:274-1748433600-1748437200@hatsministries.org
SUMMARY:Book Club
DESCRIPTION:Our first book to discuss will be “The Cost of Discipleship” by Dietrich Bonhoeffer.
URL:https://hatsministries.org/event/book-club-5/
LOCATION:HATS Ministries\, 123 Garrett Way\, Milledgeville\, GA\, 31061
END:VEVENT
BEGIN:VEVENT
DTSTART;TZID=America/New_York:20250522T100000
DTEND;TZID=America/New_York:20250522T110000
DTSTAMP:20260423T174757
CREATED:20250505T024553Z
LAST-MODIFIED:20250505T024553Z
UID:260-1747908000-1747911600@hatsministries.org
SUMMARY:Financial Freedom through Budgeting: Session 1
DESCRIPTION:This course is 3 sessions \nMay 22: Session 1 \nJune 5: Session 2 \nJune 19: Session 3 \nMeant to help the participants discover where they are spending their money and help them come with better spending strategies and build a proper budget.
URL:https://hatsministries.org/event/financial-freedom-through-budgeting-session-1/
LOCATION:HATS Ministries\, 123 Garrett Way\, Milledgeville\, GA\, 31061
END:VEVENT
BEGIN:VEVENT
DTSTART;TZID=America/New_York:20250521T120000
DTEND;TZID=America/New_York:20250521T130000
DTSTAMP:20260423T174757
CREATED:20250505T030001Z
LAST-MODIFIED:20250505T030001Z
UID:272-1747828800-1747832400@hatsministries.org
SUMMARY:Book Club
DESCRIPTION:Our first book to discuss will be “The Cost of Discipleship” by Dietrich Bonhoeffer.
URL:https://hatsministries.org/event/book-club-4/
LOCATION:HATS Ministries\, 123 Garrett Way\, Milledgeville\, GA\, 31061
END:VEVENT
BEGIN:VEVENT
DTSTART;TZID=America/New_York:20250514T120000
DTEND;TZID=America/New_York:20250514T130000
DTSTAMP:20260423T174757
CREATED:20250505T025932Z
LAST-MODIFIED:20250505T025932Z
UID:270-1747224000-1747227600@hatsministries.org
SUMMARY:Book Club
DESCRIPTION:Our first book to discuss will be “The Cost of Discipleship” by Dietrich Bonhoeffer.
URL:https://hatsministries.org/event/book-club-3/
LOCATION:HATS Ministries\, 123 Garrett Way\, Milledgeville\, GA\, 31061
END:VEVENT
BEGIN:VEVENT
DTSTART;TZID=America/New_York:20250507T120000
DTEND;TZID=America/New_York:20250507T130000
DTSTAMP:20260423T174757
CREATED:20250505T025859Z
LAST-MODIFIED:20250505T025859Z
UID:268-1746619200-1746622800@hatsministries.org
SUMMARY:Book Club
DESCRIPTION:Our first book to discuss will be “The Cost of Discipleship” by Dietrich Bonhoeffer.
URL:https://hatsministries.org/event/book-club-2/
LOCATION:HATS Ministries\, 123 Garrett Way\, Milledgeville\, GA\, 31061
END:VEVENT
BEGIN:VEVENT
DTSTART;TZID=America/New_York:20250421T180000
DTEND;TZID=America/New_York:20250421T200000
DTSTAMP:20260423T174757
CREATED:20250331T012024Z
LAST-MODIFIED:20250331T012320Z
UID:234-1745258400-1745265600@hatsministries.org
SUMMARY:"Tell Someone" Personal Evangelism
DESCRIPTION:Monday Night Minis \nGreg Laurie: We all have a story to tell that can reach the unreached \nLearn how your story can reach out to people in a way that is unique. Develop your way to reach people that others might not be able to reach.
URL:https://hatsministries.org/event/tell-someone-personal-evangelism/
LOCATION:HATS Ministries\, 123 Garrett Way\, Milledgeville\, GA\, 31061
END:VEVENT
BEGIN:VEVENT
DTSTART;TZID=America/New_York:20250416T120000
DTEND;TZID=America/New_York:20250416T130000
DTSTAMP:20260423T174757
CREATED:20250331T012624Z
LAST-MODIFIED:20250331T012729Z
UID:239-1744804800-1744808400@hatsministries.org
SUMMARY:Book Club
DESCRIPTION:Our first book to discuss will be “The Cost of Discipleship” by Dietrich Bonhoeffer.
URL:https://hatsministries.org/event/book-club/
LOCATION:HATS Ministries\, 123 Garrett Way\, Milledgeville\, GA\, 31061
END:VEVENT
BEGIN:VEVENT
DTSTART;TZID=America/New_York:20250414T180000
DTEND;TZID=America/New_York:20250414T200000
DTSTAMP:20260423T174757
CREATED:20250331T011346Z
LAST-MODIFIED:20250331T011346Z
UID:232-1744653600-1744660800@hatsministries.org
SUMMARY:Discovering your Spiritual Gifts
DESCRIPTION:Monday Night Minis \nLearn to recognize your spiritual gifts and how to foster your gift as you grow in your faith
URL:https://hatsministries.org/event/discovering-your-spiritual-gifts/
LOCATION:HATS Ministries\, 123 Garrett Way\, Milledgeville\, GA\, 31061
END:VEVENT
BEGIN:VEVENT
DTSTART;TZID=America/New_York:20250407T180000
DTEND;TZID=America/New_York:20250407T200000
DTSTAMP:20260423T174757
CREATED:20250331T011100Z
LAST-MODIFIED:20250331T011100Z
UID:230-1744048800-1744056000@hatsministries.org
SUMMARY:Goal Setting
DESCRIPTION:Monday Night Minis \nEssentials training in how to set realistic goals for yourself and for your future.
URL:https://hatsministries.org/event/goal-setting/
LOCATION:HATS Ministries\, 123 Garrett Way\, Milledgeville\, GA\, 31061
END:VEVENT
BEGIN:VEVENT
DTSTART;TZID=America/New_York:20250327T130000
DTEND;TZID=America/New_York:20250327T150000
DTSTAMP:20260423T174757
CREATED:20250204T013613Z
LAST-MODIFIED:20250204T013613Z
UID:211-1743080400-1743087600@hatsministries.org
SUMMARY:From Despair to Delight week 8
DESCRIPTION:Bible study on the Book of Ruth with emphasis on the topic of grief
URL:https://hatsministries.org/event/from-despair-to-delight-week-8/
LOCATION:HATS Ministries\, 123 Garrett Way\, Milledgeville\, GA\, 31061
END:VEVENT
BEGIN:VEVENT
DTSTART;TZID=America/New_York:20250326T120000
DTEND;TZID=America/New_York:20250326T140000
DTSTAMP:20260423T174757
CREATED:20250204T012741Z
LAST-MODIFIED:20250204T012741Z
UID:195-1742990400-1742997600@hatsministries.org
SUMMARY:Break Every Stinking Chain group study week 11
DESCRIPTION:Group study going over how to handle trauma \nEvery Wednesday from now to March
URL:https://hatsministries.org/event/break-every-stinking-chain-group-study-week-11/
LOCATION:HATS Ministries\, 123 Garrett Way\, Milledgeville\, GA\, 31061
END:VEVENT
BEGIN:VEVENT
DTSTART;TZID=America/New_York:20250320T130000
DTEND;TZID=America/New_York:20250320T150000
DTSTAMP:20260423T174757
CREATED:20250204T013512Z
LAST-MODIFIED:20250204T013512Z
UID:209-1742475600-1742482800@hatsministries.org
SUMMARY:From Despair to Delight week 7
DESCRIPTION:Bible study on the Book of Ruth with emphasis on the topic of grief
URL:https://hatsministries.org/event/from-despair-to-delight-week-7/
LOCATION:HATS Ministries\, 123 Garrett Way\, Milledgeville\, GA\, 31061
END:VEVENT
BEGIN:VEVENT
DTSTART;TZID=America/New_York:20250319T120000
DTEND;TZID=America/New_York:20250319T140000
DTSTAMP:20260423T174757
CREATED:20250204T012632Z
LAST-MODIFIED:20250204T012632Z
UID:193-1742385600-1742392800@hatsministries.org
SUMMARY:Break Every Stinking Chain group study week 10
DESCRIPTION:Group study going over how to handle trauma \nEvery Wednesday from now to March
URL:https://hatsministries.org/event/break-every-stinking-chain-group-study-week-10/
LOCATION:HATS Ministries\, 123 Garrett Way\, Milledgeville\, GA\, 31061
END:VEVENT
BEGIN:VEVENT
DTSTART;TZID=America/New_York:20250315T100000
DTEND;TZID=America/New_York:20250315T120000
DTSTAMP:20260423T174757
CREATED:20250204T014050Z
LAST-MODIFIED:20250215T034750Z
UID:213-1742032800-1742040000@hatsministries.org
SUMMARY:Paint and Punch Bunny Door Hanger Fundraiser
DESCRIPTION:Come and help raise money for HATS by visiting our paint and punch fundraiser \nThis time\, we’re going to be painting bunny door hangers for Easter! \nCome and join us! \n  \nPunch and light refreshments provided \nCost: $35 \nPlease enable JavaScript in your browser to complete this form.Please enable JavaScript in your browser to complete this form.EventPaint and PunchName *FirstLast		\n			Event or Message\n			\n		\n		Email *Comment or MessageSubmit
URL:https://hatsministries.org/event/paint-and-punch-bunny-door-hanger-fundraiser/
LOCATION:HATS Ministries\, 123 Garrett Way\, Milledgeville\, GA\, 31061
END:VEVENT
BEGIN:VEVENT
DTSTART;TZID=America/New_York:20250313T130000
DTEND;TZID=America/New_York:20250313T150000
DTSTAMP:20260423T174757
CREATED:20250204T013433Z
LAST-MODIFIED:20250204T013433Z
UID:207-1741870800-1741878000@hatsministries.org
SUMMARY:From Despair to Delight week 6
DESCRIPTION:Bible study on the Book of Ruth with emphasis on the topic of grief
URL:https://hatsministries.org/event/from-despair-to-delight-week-6/
LOCATION:HATS Ministries\, 123 Garrett Way\, Milledgeville\, GA\, 31061
END:VEVENT
BEGIN:VEVENT
DTSTART;TZID=America/New_York:20250312T120000
DTEND;TZID=America/New_York:20250312T140000
DTSTAMP:20260423T174757
CREATED:20250204T012547Z
LAST-MODIFIED:20250204T012547Z
UID:191-1741780800-1741788000@hatsministries.org
SUMMARY:Break Every Stinking Chain group study week 9
DESCRIPTION:Group study going over how to handle trauma \nEvery Wednesday from now to March
URL:https://hatsministries.org/event/break-every-stinking-chain-group-study-week-9/
LOCATION:HATS Ministries\, 123 Garrett Way\, Milledgeville\, GA\, 31061
END:VEVENT
BEGIN:VEVENT
DTSTART;TZID=America/New_York:20250306T130000
DTEND;TZID=America/New_York:20250306T150000
DTSTAMP:20260423T174757
CREATED:20250204T013354Z
LAST-MODIFIED:20250204T013354Z
UID:205-1741266000-1741273200@hatsministries.org
SUMMARY:From Despair to Delight week 5
DESCRIPTION:Bible study on the Book of Ruth with emphasis on the topic of grief
URL:https://hatsministries.org/event/from-despair-to-delight-week-5/
LOCATION:HATS Ministries\, 123 Garrett Way\, Milledgeville\, GA\, 31061
END:VEVENT
BEGIN:VEVENT
DTSTART;TZID=America/New_York:20250305T120000
DTEND;TZID=America/New_York:20250305T140000
DTSTAMP:20260423T174757
CREATED:20250204T012458Z
LAST-MODIFIED:20250204T012458Z
UID:189-1741176000-1741183200@hatsministries.org
SUMMARY:Break Every Stinking Chain group study week 8
DESCRIPTION:Group study going over how to handle trauma \nEvery Wednesday from now to March
URL:https://hatsministries.org/event/break-every-stinking-chain-group-study-week-8/
LOCATION:HATS Ministries\, 123 Garrett Way\, Milledgeville\, GA\, 31061
END:VEVENT
BEGIN:VEVENT
DTSTART;TZID=America/New_York:20250227T130000
DTEND;TZID=America/New_York:20250227T150000
DTSTAMP:20260423T174757
CREATED:20250204T013313Z
LAST-MODIFIED:20250204T013313Z
UID:203-1740661200-1740668400@hatsministries.org
SUMMARY:From Despair to Delight week 4
DESCRIPTION:Bible study on the Book of Ruth with emphasis on the topic of grief
URL:https://hatsministries.org/event/from-despair-to-delight-week-4/
LOCATION:HATS Ministries\, 123 Garrett Way\, Milledgeville\, GA\, 31061
END:VEVENT
END:VCALENDAR