BEGIN:VCALENDAR
VERSION:2.0
PRODID:-//HATS Ministries - ECPv6.15.20//NONSGML v1.0//EN
CALSCALE:GREGORIAN
METHOD:PUBLISH
X-ORIGINAL-URL:https://hatsministries.org
X-WR-CALDESC:Events for HATS Ministries
REFRESH-INTERVAL;VALUE=DURATION:PT1H
X-Robots-Tag:noindex
X-PUBLISHED-TTL:PT1H
BEGIN:VTIMEZONE
TZID:America/New_York
BEGIN:DAYLIGHT
TZOFFSETFROM:-0500
TZOFFSETTO:-0400
TZNAME:EDT
DTSTART:20250309T070000
END:DAYLIGHT
BEGIN:STANDARD
TZOFFSETFROM:-0400
TZOFFSETTO:-0500
TZNAME:EST
DTSTART:20251102T060000
END:STANDARD
BEGIN:DAYLIGHT
TZOFFSETFROM:-0500
TZOFFSETTO:-0400
TZNAME:EDT
DTSTART:20260308T070000
END:DAYLIGHT
BEGIN:STANDARD
TZOFFSETFROM:-0400
TZOFFSETTO:-0500
TZNAME:EST
DTSTART:20261101T060000
END:STANDARD
BEGIN:DAYLIGHT
TZOFFSETFROM:-0500
TZOFFSETTO:-0400
TZNAME:EDT
DTSTART:20270314T070000
END:DAYLIGHT
BEGIN:STANDARD
TZOFFSETFROM:-0400
TZOFFSETTO:-0500
TZNAME:EST
DTSTART:20271107T060000
END:STANDARD
END:VTIMEZONE
BEGIN:VEVENT
DTSTART;TZID=America/New_York:20260203T183000
DTEND;TZID=America/New_York:20260203T200000
DTSTAMP:20260423T141334
CREATED:20260120T061741Z
LAST-MODIFIED:20260120T061745Z
UID:342-1770143400-1770148800@hatsministries.org
SUMMARY:New study course: Forgiving what you can't forget
DESCRIPTION:Join us on Tuesday nights as we start the “Forgiving what you can’t forget” study by Lysa Terkeurst. \nCourse lasts 7 weeks
URL:https://hatsministries.org/event/new-study-course-forgiving-what-you-cant-forget/
LOCATION:HATS Ministries\, 123 Garrett Way\, Milledgeville\, GA\, 31061
END:VEVENT
BEGIN:VEVENT
DTSTART;TZID=America/New_York:20260211T130000
DTEND;TZID=America/New_York:20260211T170000
DTSTAMP:20260423T141334
CREATED:20260120T062028Z
LAST-MODIFIED:20260120T062032Z
UID:344-1770814800-1770829200@hatsministries.org
SUMMARY:Journaling through Grief
DESCRIPTION:Join us as we welcome Angie Hunt to lead us on a discussion of constructive ways to process grief
URL:https://hatsministries.org/event/journaling-through-grief/
LOCATION:HATS Ministries\, 123 Garrett Way\, Milledgeville\, GA\, 31061
END:VEVENT
BEGIN:VEVENT
DTSTART;TZID=America/New_York:20260214T120000
DTEND;TZID=America/New_York:20260214T140000
DTSTAMP:20260423T141334
CREATED:20260120T062832Z
LAST-MODIFIED:20260120T062836Z
UID:346-1771070400-1771077600@hatsministries.org
SUMMARY:Widows Valentine's Day Luncheon
DESCRIPTION:This Valentine’s Day\, join us for a luncheon as we celebrate a day of love with others\, in honor of those who have also lost someone precious to them.
URL:https://hatsministries.org/event/widows-valentines-day-luncheon/
LOCATION:HATS Ministries\, 123 Garrett Way\, Milledgeville\, GA\, 31061
END:VEVENT
END:VCALENDAR